BEGIN:VCALENDAR
VERSION:2.0
PRODID:-//Live Life Build - ECPv6.15.18//NONSGML v1.0//EN
CALSCALE:GREGORIAN
METHOD:PUBLISH
X-WR-CALNAME:Live Life Build
X-ORIGINAL-URL:https://courses.livelifebuild.com
X-WR-CALDESC:Events for Live Life Build
REFRESH-INTERVAL;VALUE=DURATION:PT1H
X-Robots-Tag:noindex
X-PUBLISHED-TTL:PT1H
BEGIN:VTIMEZONE
TZID:Australia/Sydney
BEGIN:STANDARD
TZOFFSETFROM:+1100
TZOFFSETTO:+1000
TZNAME:AEST
DTSTART:20220402T160000
END:STANDARD
BEGIN:DAYLIGHT
TZOFFSETFROM:+1000
TZOFFSETTO:+1100
TZNAME:AEDT
DTSTART:20221001T160000
END:DAYLIGHT
BEGIN:STANDARD
TZOFFSETFROM:+1100
TZOFFSETTO:+1000
TZNAME:AEST
DTSTART:20230401T160000
END:STANDARD
BEGIN:DAYLIGHT
TZOFFSETFROM:+1000
TZOFFSETTO:+1100
TZNAME:AEDT
DTSTART:20230930T160000
END:DAYLIGHT
BEGIN:STANDARD
TZOFFSETFROM:+1100
TZOFFSETTO:+1000
TZNAME:AEST
DTSTART:20240406T160000
END:STANDARD
BEGIN:DAYLIGHT
TZOFFSETFROM:+1000
TZOFFSETTO:+1100
TZNAME:AEDT
DTSTART:20241005T160000
END:DAYLIGHT
END:VTIMEZONE
BEGIN:VEVENT
DTSTART;TZID=Australia/Sydney:20231204T150000
DTEND;TZID=Australia/Sydney:20231204T160000
DTSTAMP:20260423T193100
CREATED:20230801T071031Z
LAST-MODIFIED:20230801T071031Z
UID:10000082-1701702000-1701705600@courses.livelifebuild.com
SUMMARY:Call with Aaron Applefield
DESCRIPTION:
URL:https://courses.livelifebuild.com/event/call-with-aaron-applefield-11/
LOCATION:https://us02web.zoom.us/j/84622506145
END:VEVENT
BEGIN:VEVENT
DTSTART;TZID=Australia/Sydney:20231207T193000
DTEND;TZID=Australia/Sydney:20231207T203000
DTSTAMP:20260423T193100
CREATED:20230801T071128Z
LAST-MODIFIED:20230801T071128Z
UID:10000083-1701977400-1701981000@courses.livelifebuild.com
SUMMARY:Call with John Tonkin
DESCRIPTION:
URL:https://courses.livelifebuild.com/event/call-with-john-tonkin-11/
LOCATION:https://us02web.zoom.us/j/83337750655
END:VEVENT
BEGIN:VEVENT
DTSTART;TZID=Australia/Sydney:20231212T080000
DTEND;TZID=Australia/Sydney:20231212T170000
DTSTAMP:20260423T193100
CREATED:20231212T004012Z
LAST-MODIFIED:20231212T004012Z
UID:10000094-1702368000-1702400400@courses.livelifebuild.com
SUMMARY:Call with Duayne + Amelia
DESCRIPTION:
URL:https://courses.livelifebuild.com/event/call-with-duayne-amelia/
LOCATION:https://us02web.zoom.us/j/86156328375
END:VEVENT
BEGIN:VEVENT
DTSTART;TZID=Australia/Sydney:20231213T130000
DTEND;TZID=Australia/Sydney:20231213T140000
DTSTAMP:20260423T193100
CREATED:20231101T061218Z
LAST-MODIFIED:20231130T231014Z
UID:10000084-1702472400-1702476000@courses.livelifebuild.com
SUMMARY:Call with Katie [Profit First]
DESCRIPTION:
URL:https://courses.livelifebuild.com/event/call-with-katie-profit-first-dec-2023/
LOCATION:https://us02web.zoom.us/j/85636014897
END:VEVENT
BEGIN:VEVENT
DTSTART;TZID=Australia/Sydney:20231218T130000
DTEND;TZID=Australia/Sydney:20231218T140000
DTSTAMP:20260423T193100
CREATED:20231121T213010Z
LAST-MODIFIED:20231213T060133Z
UID:10000085-1702904400-1702908000@courses.livelifebuild.com
SUMMARY:Review + 6P ELEVATOR Call with Duayne + Amelia
DESCRIPTION:
URL:https://courses.livelifebuild.com/event/call-with-duayne-amelia-dec23/
LOCATION:https://us02web.zoom.us/j/85999472767
END:VEVENT
END:VCALENDAR