BEGIN:VCALENDAR
VERSION:2.0
PRODID:-//Live Life Build - ECPv6.15.18//NONSGML v1.0//EN
CALSCALE:GREGORIAN
METHOD:PUBLISH
X-WR-CALNAME:Live Life Build
X-ORIGINAL-URL:https://courses.livelifebuild.com
X-WR-CALDESC:Events for Live Life Build
REFRESH-INTERVAL;VALUE=DURATION:PT1H
X-Robots-Tag:noindex
X-PUBLISHED-TTL:PT1H
BEGIN:VTIMEZONE
TZID:Australia/Sydney
BEGIN:STANDARD
TZOFFSETFROM:+1100
TZOFFSETTO:+1000
TZNAME:AEST
DTSTART:20230401T160000
END:STANDARD
BEGIN:DAYLIGHT
TZOFFSETFROM:+1000
TZOFFSETTO:+1100
TZNAME:AEDT
DTSTART:20230930T160000
END:DAYLIGHT
BEGIN:STANDARD
TZOFFSETFROM:+1100
TZOFFSETTO:+1000
TZNAME:AEST
DTSTART:20240406T160000
END:STANDARD
BEGIN:DAYLIGHT
TZOFFSETFROM:+1000
TZOFFSETTO:+1100
TZNAME:AEDT
DTSTART:20241005T160000
END:DAYLIGHT
BEGIN:STANDARD
TZOFFSETFROM:+1100
TZOFFSETTO:+1000
TZNAME:AEST
DTSTART:20250405T160000
END:STANDARD
BEGIN:DAYLIGHT
TZOFFSETFROM:+1000
TZOFFSETTO:+1100
TZNAME:AEDT
DTSTART:20251004T160000
END:DAYLIGHT
END:VTIMEZONE
BEGIN:VEVENT
DTSTART;TZID=Australia/Sydney:20240124T130000
DTEND;TZID=Australia/Sydney:20240124T140000
DTSTAMP:20260423T174937
CREATED:20231212T001122Z
LAST-MODIFIED:20240122T044131Z
UID:10000089-1706101200-1706104800@courses.livelifebuild.com
SUMMARY:Call with Duayne + Amelia [Welcome 2024]
DESCRIPTION:
URL:https://courses.livelifebuild.com/event/elevate-call-amelia-duayne-jan24/
LOCATION:https://us02web.zoom.us/j/83976520298
END:VEVENT
BEGIN:VEVENT
DTSTART;TZID=Australia/Sydney:20240129T130000
DTEND;TZID=Australia/Sydney:20240129T140000
DTSTAMP:20260423T174937
CREATED:20231212T002339Z
LAST-MODIFIED:20231213T215048Z
UID:10000090-1706533200-1706536800@courses.livelifebuild.com
SUMMARY:MINDSET Call with Aaron Applefield [Stoic Coaching]
DESCRIPTION:
URL:https://courses.livelifebuild.com/event/call-with-aaron-applefield-jan24/
LOCATION:https://us02web.zoom.us/j/87989348628
END:VEVENT
END:VCALENDAR