BEGIN:VCALENDAR
VERSION:2.0
PRODID:-//Live Life Build - ECPv6.15.18//NONSGML v1.0//EN
CALSCALE:GREGORIAN
METHOD:PUBLISH
X-ORIGINAL-URL:https://courses.livelifebuild.com
X-WR-CALDESC:Events for Live Life Build
REFRESH-INTERVAL;VALUE=DURATION:PT1H
X-Robots-Tag:noindex
X-PUBLISHED-TTL:PT1H
BEGIN:VTIMEZONE
TZID:Australia/Sydney
BEGIN:STANDARD
TZOFFSETFROM:+1100
TZOFFSETTO:+1000
TZNAME:AEST
DTSTART:20230401T160000
END:STANDARD
BEGIN:DAYLIGHT
TZOFFSETFROM:+1000
TZOFFSETTO:+1100
TZNAME:AEDT
DTSTART:20230930T160000
END:DAYLIGHT
BEGIN:STANDARD
TZOFFSETFROM:+1100
TZOFFSETTO:+1000
TZNAME:AEST
DTSTART:20240406T160000
END:STANDARD
BEGIN:DAYLIGHT
TZOFFSETFROM:+1000
TZOFFSETTO:+1100
TZNAME:AEDT
DTSTART:20241005T160000
END:DAYLIGHT
BEGIN:STANDARD
TZOFFSETFROM:+1100
TZOFFSETTO:+1000
TZNAME:AEST
DTSTART:20250405T160000
END:STANDARD
BEGIN:DAYLIGHT
TZOFFSETFROM:+1000
TZOFFSETTO:+1100
TZNAME:AEDT
DTSTART:20251004T160000
END:DAYLIGHT
END:VTIMEZONE
BEGIN:VEVENT
DTSTART;TZID=Australia/Sydney:20240304T130000
DTEND;TZID=Australia/Sydney:20240304T140000
DTSTAMP:20260423T143029
CREATED:20231215T051107Z
LAST-MODIFIED:20240125T090622Z
UID:10000097-1709557200-1709560800@courses.livelifebuild.com
SUMMARY:ELEVATE Call with Duayne
DESCRIPTION:
URL:https://courses.livelifebuild.com/event/elevate-call-4mar24/
LOCATION:https://us02web.zoom.us/j/82556897621
END:VEVENT
BEGIN:VEVENT
DTSTART;TZID=Australia/Sydney:20240307T130000
DTEND;TZID=Australia/Sydney:20240307T140000
DTSTAMP:20260423T143029
CREATED:20231215T053747Z
LAST-MODIFIED:20240811T224933Z
UID:10000098-1709816400-1709820000@courses.livelifebuild.com
SUMMARY:ELEVATE Call with Helen [Leadership EQ]
DESCRIPTION:
URL:https://courses.livelifebuild.com/event/elevate-call-with-helen-mar24/
LOCATION:https://us02web.zoom.us/j/85023776234
END:VEVENT
BEGIN:VEVENT
DTSTART;TZID=Australia/Sydney:20240313T130000
DTEND;TZID=Australia/Sydney:20240313T140000
DTSTAMP:20260423T143029
CREATED:20231215T054210Z
LAST-MODIFIED:20240811T224927Z
UID:10000099-1710334800-1710338400@courses.livelifebuild.com
SUMMARY:ELEVATE Call with Amelia + Duayne
DESCRIPTION:
URL:https://courses.livelifebuild.com/event/elevate-call-with-amelia-duayne-mar24/
LOCATION:https://us02web.zoom.us/j/84900100111
END:VEVENT
BEGIN:VEVENT
DTSTART;TZID=Australia/Sydney:20240318T130000
DTEND;TZID=Australia/Sydney:20240318T140000
DTSTAMP:20260423T143029
CREATED:20231215T054617Z
LAST-MODIFIED:20240811T224920Z
UID:10000100-1710766800-1710770400@courses.livelifebuild.com
SUMMARY:ELEVATE Call with Aaron Applefield [Stoic Coaching]
DESCRIPTION:
URL:https://courses.livelifebuild.com/event/elevate-call-with-aaron-applefield-mar24/
LOCATION:https://us02web.zoom.us/j/85124951362
END:VEVENT
BEGIN:VEVENT
DTSTART;TZID=Australia/Sydney:20240327T130000
DTEND;TZID=Australia/Sydney:20240327T140000
DTSTAMP:20260423T143029
CREATED:20231215T055002Z
LAST-MODIFIED:20240811T224914Z
UID:10000101-1711544400-1711548000@courses.livelifebuild.com
SUMMARY:ELEVATE Call with Amelia
DESCRIPTION:
URL:https://courses.livelifebuild.com/event/elevate-call-with-amelia-mar24/
LOCATION:https://us02web.zoom.us/j/83646397890
END:VEVENT
END:VCALENDAR