BEGIN:VCALENDAR
VERSION:2.0
PRODID:-//Live Life Build - ECPv6.15.18//NONSGML v1.0//EN
CALSCALE:GREGORIAN
METHOD:PUBLISH
X-ORIGINAL-URL:https://courses.livelifebuild.com
X-WR-CALDESC:Events for Live Life Build
REFRESH-INTERVAL;VALUE=DURATION:PT1H
X-Robots-Tag:noindex
X-PUBLISHED-TTL:PT1H
BEGIN:VTIMEZONE
TZID:Australia/Sydney
BEGIN:STANDARD
TZOFFSETFROM:+1100
TZOFFSETTO:+1000
TZNAME:AEST
DTSTART:20230401T160000
END:STANDARD
BEGIN:DAYLIGHT
TZOFFSETFROM:+1000
TZOFFSETTO:+1100
TZNAME:AEDT
DTSTART:20230930T160000
END:DAYLIGHT
BEGIN:STANDARD
TZOFFSETFROM:+1100
TZOFFSETTO:+1000
TZNAME:AEST
DTSTART:20240406T160000
END:STANDARD
BEGIN:DAYLIGHT
TZOFFSETFROM:+1000
TZOFFSETTO:+1100
TZNAME:AEDT
DTSTART:20241005T160000
END:DAYLIGHT
BEGIN:STANDARD
TZOFFSETFROM:+1100
TZOFFSETTO:+1000
TZNAME:AEST
DTSTART:20250405T160000
END:STANDARD
BEGIN:DAYLIGHT
TZOFFSETFROM:+1000
TZOFFSETTO:+1100
TZNAME:AEDT
DTSTART:20251004T160000
END:DAYLIGHT
END:VTIMEZONE
BEGIN:VEVENT
DTSTART;TZID=Australia/Sydney:20240404T190000
DTEND;TZID=Australia/Sydney:20240404T200000
DTSTAMP:20260423T225546
CREATED:20240125T090343Z
LAST-MODIFIED:20240811T224908Z
UID:10000102-1712257200-1712260800@courses.livelifebuild.com
SUMMARY:Call with John Tonkin [Brain In A Box]
DESCRIPTION:
URL:https://courses.livelifebuild.com/event/call-with-john-tonkin-apr24/
LOCATION:https://us02web.zoom.us/j/87250094528
END:VEVENT
BEGIN:VEVENT
DTSTART;TZID=Australia/Sydney:20240415T130000
DTEND;TZID=Australia/Sydney:20240415T140000
DTSTAMP:20260423T225546
CREATED:20240125T091440Z
LAST-MODIFIED:20240811T224902Z
UID:10000103-1713186000-1713189600@courses.livelifebuild.com
SUMMARY:Call with Kurt Everard [TIACS]
DESCRIPTION:
URL:https://courses.livelifebuild.com/event/call-with-kurt-everard-april24/
LOCATION:https://us02web.zoom.us/j/83052763906
END:VEVENT
BEGIN:VEVENT
DTSTART;TZID=Australia/Sydney:20240418T130000
DTEND;TZID=Australia/Sydney:20240418T140000
DTSTAMP:20260423T225546
CREATED:20240125T092201Z
LAST-MODIFIED:20240811T224856Z
UID:10000104-1713445200-1713448800@courses.livelifebuild.com
SUMMARY:ELEVATE Call with Katie Crismale-Marshall [Profit First for Tradies]
DESCRIPTION:
URL:https://courses.livelifebuild.com/event/call-with-katie-april24/
LOCATION:https://us02web.zoom.us/j/82392894604
END:VEVENT
BEGIN:VEVENT
DTSTART;TZID=Australia/Sydney:20240424T130000
DTEND;TZID=Australia/Sydney:20240424T140000
DTSTAMP:20260423T225546
CREATED:20240325T054902Z
LAST-MODIFIED:20240811T224851Z
UID:10000109-1713963600-1713967200@courses.livelifebuild.com
SUMMARY:ELEVATE Call with Duayne + Amelia
DESCRIPTION:
URL:https://courses.livelifebuild.com/event/elevate-call-with-duayne-amelia/
LOCATION:https://us02web.zoom.us/j/88970724788
END:VEVENT
BEGIN:VEVENT
DTSTART;TZID=Australia/Sydney:20240429T130000
DTEND;TZID=Australia/Sydney:20240429T140000
DTSTAMP:20260423T225546
CREATED:20240125T092704Z
LAST-MODIFIED:20240811T224846Z
UID:10000105-1714395600-1714399200@courses.livelifebuild.com
SUMMARY:ELEVATE Call with Aaron Applefield [Stoic Coaching]
DESCRIPTION:
URL:https://courses.livelifebuild.com/event/elevate-call-with-aaron-applefield-apr24/
LOCATION:https://us02web.zoom.us/j/81432409746
END:VEVENT
END:VCALENDAR