BEGIN:VCALENDAR
VERSION:2.0
PRODID:-//Live Life Build - ECPv6.15.18//NONSGML v1.0//EN
CALSCALE:GREGORIAN
METHOD:PUBLISH
X-WR-CALNAME:Live Life Build
X-ORIGINAL-URL:https://courses.livelifebuild.com
X-WR-CALDESC:Events for Live Life Build
REFRESH-INTERVAL;VALUE=DURATION:PT1H
X-Robots-Tag:noindex
X-PUBLISHED-TTL:PT1H
BEGIN:VTIMEZONE
TZID:Australia/Sydney
BEGIN:STANDARD
TZOFFSETFROM:+1100
TZOFFSETTO:+1000
TZNAME:AEST
DTSTART:20230401T160000
END:STANDARD
BEGIN:DAYLIGHT
TZOFFSETFROM:+1000
TZOFFSETTO:+1100
TZNAME:AEDT
DTSTART:20230930T160000
END:DAYLIGHT
BEGIN:STANDARD
TZOFFSETFROM:+1100
TZOFFSETTO:+1000
TZNAME:AEST
DTSTART:20240406T160000
END:STANDARD
BEGIN:DAYLIGHT
TZOFFSETFROM:+1000
TZOFFSETTO:+1100
TZNAME:AEDT
DTSTART:20241005T160000
END:DAYLIGHT
BEGIN:STANDARD
TZOFFSETFROM:+1100
TZOFFSETTO:+1000
TZNAME:AEST
DTSTART:20250405T160000
END:STANDARD
BEGIN:DAYLIGHT
TZOFFSETFROM:+1000
TZOFFSETTO:+1100
TZNAME:AEDT
DTSTART:20251004T160000
END:DAYLIGHT
END:VTIMEZONE
BEGIN:VEVENT
DTSTART;TZID=Australia/Sydney:20240508T130000
DTEND;TZID=Australia/Sydney:20240508T140000
DTSTAMP:20260423T091455
CREATED:20240404T101542Z
LAST-MODIFIED:20240811T224839Z
UID:10000111-1715173200-1715176800@courses.livelifebuild.com
SUMMARY:ELEVATE Call with Duayne + Amelia
DESCRIPTION:
URL:https://courses.livelifebuild.com/event/elevate-call-with-duayne/
LOCATION:https://us02web.zoom.us/j/82378803628
END:VEVENT
BEGIN:VEVENT
DTSTART;TZID=Australia/Sydney:20240513T130000
DTEND;TZID=Australia/Sydney:20240513T140000
DTSTAMP:20260423T091455
CREATED:20240304T090007Z
LAST-MODIFIED:20240304T090007Z
UID:10000106-1715605200-1715608800@courses.livelifebuild.com
SUMMARY:Call with Johannes Egberts [Breathwork]
DESCRIPTION:
URL:https://courses.livelifebuild.com/event/call-with-johannes-egberts-breathwork/
LOCATION:https://us02web.zoom.us/j/82314677790
END:VEVENT
BEGIN:VEVENT
DTSTART;TZID=Australia/Sydney:20240516T130000
DTEND;TZID=Australia/Sydney:20240516T140000
DTSTAMP:20260423T091455
CREATED:20240304T091051Z
LAST-MODIFIED:20240807T003932Z
UID:10000107-1715864400-1715868000@courses.livelifebuild.com
SUMMARY:LEADERSHIP Call with Helen Rogerson [Leadership EQ]
DESCRIPTION:
URL:https://courses.livelifebuild.com/event/elevate-call-with-helen-leadership-eq/
LOCATION:https://us02web.zoom.us/j/87069798329
END:VEVENT
BEGIN:VEVENT
DTSTART;TZID=Australia/Sydney:20240522T130000
DTEND;TZID=Australia/Sydney:20240522T140000
DTSTAMP:20260423T091455
CREATED:20240325T061626Z
LAST-MODIFIED:20240811T224833Z
UID:10000110-1716382800-1716386400@courses.livelifebuild.com
SUMMARY:ELEVATE Call with Duayne + Amelia
DESCRIPTION:
URL:https://courses.livelifebuild.com/event/elevate-call-with-duayne-amelia-2/
LOCATION:https://us02web.zoom.us/j/82552556291
END:VEVENT
BEGIN:VEVENT
DTSTART;TZID=Australia/Sydney:20240527T130000
DTEND;TZID=Australia/Sydney:20240527T140000
DTSTAMP:20260423T091455
CREATED:20240304T092009Z
LAST-MODIFIED:20240811T224827Z
UID:10000108-1716814800-1716818400@courses.livelifebuild.com
SUMMARY:ELEVATE Call with Aaron Applefield [Stoic Coaching]
DESCRIPTION:
URL:https://courses.livelifebuild.com/event/elevate-call-with-aaron-applefield-stoic-coaching/
LOCATION:https://us02web.zoom.us/j/84077159314
END:VEVENT
END:VCALENDAR