BEGIN:VCALENDAR
VERSION:2.0
PRODID:-//Live Life Build - ECPv6.15.18//NONSGML v1.0//EN
CALSCALE:GREGORIAN
METHOD:PUBLISH
X-WR-CALNAME:Live Life Build
X-ORIGINAL-URL:https://courses.livelifebuild.com
X-WR-CALDESC:Events for Live Life Build
REFRESH-INTERVAL;VALUE=DURATION:PT1H
X-Robots-Tag:noindex
X-PUBLISHED-TTL:PT1H
BEGIN:VTIMEZONE
TZID:Australia/Sydney
BEGIN:STANDARD
TZOFFSETFROM:+1100
TZOFFSETTO:+1000
TZNAME:AEST
DTSTART:20230401T160000
END:STANDARD
BEGIN:DAYLIGHT
TZOFFSETFROM:+1000
TZOFFSETTO:+1100
TZNAME:AEDT
DTSTART:20230930T160000
END:DAYLIGHT
BEGIN:STANDARD
TZOFFSETFROM:+1100
TZOFFSETTO:+1000
TZNAME:AEST
DTSTART:20240406T160000
END:STANDARD
BEGIN:DAYLIGHT
TZOFFSETFROM:+1000
TZOFFSETTO:+1100
TZNAME:AEDT
DTSTART:20241005T160000
END:DAYLIGHT
BEGIN:STANDARD
TZOFFSETFROM:+1100
TZOFFSETTO:+1000
TZNAME:AEST
DTSTART:20250405T160000
END:STANDARD
BEGIN:DAYLIGHT
TZOFFSETFROM:+1000
TZOFFSETTO:+1100
TZNAME:AEDT
DTSTART:20251004T160000
END:DAYLIGHT
END:VTIMEZONE
BEGIN:VEVENT
DTSTART;TZID=Australia/Sydney:20241106T130000
DTEND;TZID=Australia/Sydney:20241106T140000
DTSTAMP:20260422T221453
CREATED:20240923T030001Z
LAST-MODIFIED:20241106T001948Z
UID:10000138-1730898000-1730901600@courses.livelifebuild.com
SUMMARY:ELEVATE Call with Amelia + Duayne
DESCRIPTION:
URL:https://courses.livelifebuild.com/event/elevate-call-with-amelia-and-duayne-6nov/
LOCATION:https://us02web.zoom.us/j/82526840653
END:VEVENT
BEGIN:VEVENT
DTSTART;TZID=Australia/Sydney:20241111T130000
DTEND;TZID=Australia/Sydney:20241111T140000
DTSTAMP:20260422T221453
CREATED:20240923T035142Z
LAST-MODIFIED:20241104T025140Z
UID:10000139-1731330000-1731333600@courses.livelifebuild.com
SUMMARY:BREATHWORK Call with Justin Andrews [Inner Breath]
DESCRIPTION:
URL:https://courses.livelifebuild.com/event/breathwork-call-with-justin-andrews-inner-breath-11nov/
LOCATION:https://us02web.zoom.us/j/87222707718
END:VEVENT
BEGIN:VEVENT
DTSTART;TZID=Australia/Sydney:20241114T130000
DTEND;TZID=Australia/Sydney:20241114T140000
DTSTAMP:20260422T221453
CREATED:20240923T035616Z
LAST-MODIFIED:20240923T035616Z
UID:10000140-1731589200-1731592800@courses.livelifebuild.com
SUMMARY:LEADERSHIP Call with Helen Rogerson [Leadership EQ]
DESCRIPTION:
URL:https://courses.livelifebuild.com/event/leadership-call-with-helen-rogerson-leadership-eq-14nov/
LOCATION:https://us02web.zoom.us/j/88453213965
END:VEVENT
BEGIN:VEVENT
DTSTART;TZID=Australia/Sydney:20241120T130000
DTEND;TZID=Australia/Sydney:20241120T140000
DTSTAMP:20260422T221453
CREATED:20241024T042601Z
LAST-MODIFIED:20241024T042601Z
UID:10000146-1732107600-1732111200@courses.livelifebuild.com
SUMMARY:ELEVATE Call with Duayne + Amelia
DESCRIPTION:
URL:https://courses.livelifebuild.com/event/elevate-call-with-duayne-amelia-20nov/
LOCATION:https://us02web.zoom.us/j/82583448656
END:VEVENT
BEGIN:VEVENT
DTSTART;TZID=Australia/Sydney:20241125T130000
DTEND;TZID=Australia/Sydney:20241125T140000
DTSTAMP:20260422T221453
CREATED:20240923T041209Z
LAST-MODIFIED:20240923T041209Z
UID:10000141-1732539600-1732543200@courses.livelifebuild.com
SUMMARY:MINDSET Call with Aaron Applefield [Stoic Coaching]
DESCRIPTION:
URL:https://courses.livelifebuild.com/event/mindset-call-with-aaron-applefield-stoic-coaching-25nov/
LOCATION:https://us02web.zoom.us/j/89596656528
END:VEVENT
END:VCALENDAR