BEGIN:VCALENDAR
VERSION:2.0
PRODID:-//Live Life Build - ECPv6.15.18//NONSGML v1.0//EN
CALSCALE:GREGORIAN
METHOD:PUBLISH
X-ORIGINAL-URL:https://courses.livelifebuild.com
X-WR-CALDESC:Events for Live Life Build
REFRESH-INTERVAL;VALUE=DURATION:PT1H
X-Robots-Tag:noindex
X-PUBLISHED-TTL:PT1H
BEGIN:VTIMEZONE
TZID:Australia/Sydney
BEGIN:STANDARD
TZOFFSETFROM:+1100
TZOFFSETTO:+1000
TZNAME:AEST
DTSTART:20230401T160000
END:STANDARD
BEGIN:DAYLIGHT
TZOFFSETFROM:+1000
TZOFFSETTO:+1100
TZNAME:AEDT
DTSTART:20230930T160000
END:DAYLIGHT
BEGIN:STANDARD
TZOFFSETFROM:+1100
TZOFFSETTO:+1000
TZNAME:AEST
DTSTART:20240406T160000
END:STANDARD
BEGIN:DAYLIGHT
TZOFFSETFROM:+1000
TZOFFSETTO:+1100
TZNAME:AEDT
DTSTART:20241005T160000
END:DAYLIGHT
BEGIN:STANDARD
TZOFFSETFROM:+1100
TZOFFSETTO:+1000
TZNAME:AEST
DTSTART:20250405T160000
END:STANDARD
BEGIN:DAYLIGHT
TZOFFSETFROM:+1000
TZOFFSETTO:+1100
TZNAME:AEDT
DTSTART:20251004T160000
END:DAYLIGHT
END:VTIMEZONE
BEGIN:VEVENT
DTSTART;TZID=Australia/Sydney:20241202T130000
DTEND;TZID=Australia/Sydney:20241202T140000
DTSTAMP:20260422T201917
CREATED:20240924T165809Z
LAST-MODIFIED:20241112T072818Z
UID:10000142-1733144400-1733148000@courses.livelifebuild.com
SUMMARY:SELF CARE Call with Von Soriano [TIACS]
DESCRIPTION:
URL:https://courses.livelifebuild.com/event/self-care-call-with-kurt-everard-tiacs-2dec/
LOCATION:https://us02web.zoom.us/j/85968835932
END:VEVENT
BEGIN:VEVENT
DTSTART;TZID=Australia/Sydney:20241204T130000
DTEND;TZID=Australia/Sydney:20241204T140000
DTSTAMP:20260422T201917
CREATED:20240924T170229Z
LAST-MODIFIED:20240924T170229Z
UID:10000143-1733317200-1733320800@courses.livelifebuild.com
SUMMARY:BREATHWORK Call with Justin Andrews [Inner Breath]
DESCRIPTION:
URL:https://courses.livelifebuild.com/event/breathwork-call-with-justin-andrews-inner-breath-4dec/
LOCATION:https://us02web.zoom.us/j/83568905596
END:VEVENT
BEGIN:VEVENT
DTSTART;TZID=Australia/Sydney:20241211T130000
DTEND;TZID=Australia/Sydney:20241211T140000
DTSTAMP:20260422T201917
CREATED:20241105T233242Z
LAST-MODIFIED:20241121T022318Z
UID:10000147-1733922000-1733925600@courses.livelifebuild.com
SUMMARY:ELEVATE Call - Wrap 2024 + Vision for 2025 with Amelia + Duayne
DESCRIPTION:
URL:https://courses.livelifebuild.com/event/elevate-call-with-amelia-duayne/
LOCATION:https://us02web.zoom.us/j/82526840653
END:VEVENT
BEGIN:VEVENT
DTSTART;TZID=Australia/Sydney:20241217T100000
DTEND;TZID=Australia/Sydney:20241217T110000
DTSTAMP:20260422T201917
CREATED:20240924T171248Z
LAST-MODIFIED:20241121T041657Z
UID:10000145-1734429600-1734433200@courses.livelifebuild.com
SUMMARY:ELEVATE Momentum Session + Celebration with Amelia + Duayne
DESCRIPTION:
URL:https://courses.livelifebuild.com/event/elevate-call-with-duayne-amelia-17dec/
LOCATION:https://us02web.zoom.us/j/84470924593
END:VEVENT
END:VCALENDAR