BEGIN:VCALENDAR
VERSION:2.0
PRODID:-//Live Life Build - ECPv6.15.18//NONSGML v1.0//EN
CALSCALE:GREGORIAN
METHOD:PUBLISH
X-WR-CALNAME:Live Life Build
X-ORIGINAL-URL:https://courses.livelifebuild.com
X-WR-CALDESC:Events for Live Life Build
REFRESH-INTERVAL;VALUE=DURATION:PT1H
X-Robots-Tag:noindex
X-PUBLISHED-TTL:PT1H
BEGIN:VTIMEZONE
TZID:Australia/Sydney
BEGIN:STANDARD
TZOFFSETFROM:+1100
TZOFFSETTO:+1000
TZNAME:AEST
DTSTART:20240406T160000
END:STANDARD
BEGIN:DAYLIGHT
TZOFFSETFROM:+1000
TZOFFSETTO:+1100
TZNAME:AEDT
DTSTART:20241005T160000
END:DAYLIGHT
BEGIN:STANDARD
TZOFFSETFROM:+1100
TZOFFSETTO:+1000
TZNAME:AEST
DTSTART:20250405T160000
END:STANDARD
BEGIN:DAYLIGHT
TZOFFSETFROM:+1000
TZOFFSETTO:+1100
TZNAME:AEDT
DTSTART:20251004T160000
END:DAYLIGHT
BEGIN:STANDARD
TZOFFSETFROM:+1100
TZOFFSETTO:+1000
TZNAME:AEST
DTSTART:20260404T160000
END:STANDARD
BEGIN:DAYLIGHT
TZOFFSETFROM:+1000
TZOFFSETTO:+1100
TZNAME:AEDT
DTSTART:20261003T160000
END:DAYLIGHT
END:VTIMEZONE
BEGIN:VEVENT
DTSTART;TZID=Australia/Sydney:20250205T130000
DTEND;TZID=Australia/Sydney:20250205T140000
DTSTAMP:20260422T164448
CREATED:20241121T031752Z
LAST-MODIFIED:20250121T215205Z
UID:10000150-1738760400-1738764000@courses.livelifebuild.com
SUMMARY:6P ELEVATOR REVIEW with Amelia + Duayne
DESCRIPTION:
URL:https://courses.livelifebuild.com/event/6p-elevator-review-with-amelia-duayne-5-feb/
END:VEVENT
BEGIN:VEVENT
DTSTART;TZID=Australia/Sydney:20250210T130000
DTEND;TZID=Australia/Sydney:20250210T140000
DTSTAMP:20260422T164448
CREATED:20241121T032428Z
LAST-MODIFIED:20241217T025916Z
UID:10000151-1739192400-1739196000@courses.livelifebuild.com
SUMMARY:ELEVATE MINDSET Call with Aaron Applefield [Stoic Coaching]
DESCRIPTION:
URL:https://courses.livelifebuild.com/event/elevate-mindset-call-with-aaron-applefield-stoic-coaching-10-feb/
END:VEVENT
BEGIN:VEVENT
DTSTART;TZID=Australia/Sydney:20250219T130000
DTEND;TZID=Australia/Sydney:20250219T140000
DTSTAMP:20260422T164448
CREATED:20241121T032857Z
LAST-MODIFIED:20250210T053635Z
UID:10000152-1739970000-1739973600@courses.livelifebuild.com
SUMMARY:ELEVATE Call with Amelia
DESCRIPTION:
URL:https://courses.livelifebuild.com/event/elevate-call-with-amelia-19-feb/
END:VEVENT
BEGIN:VEVENT
DTSTART;TZID=Australia/Sydney:20250227T130000
DTEND;TZID=Australia/Sydney:20250227T140000
DTSTAMP:20260422T164448
CREATED:20241121T033734Z
LAST-MODIFIED:20250209T225724Z
UID:10000153-1740661200-1740664800@courses.livelifebuild.com
SUMMARY:ELEVATE LEADERSHIP Call with Helen Rogerson [Leadership EQ]
DESCRIPTION:
URL:https://courses.livelifebuild.com/event/elevate-leadership-call-with-helen-rogerson-leadership-eq-27-feb/
LOCATION:
END:VEVENT
END:VCALENDAR