BEGIN:VCALENDAR
VERSION:2.0
PRODID:-//Live Life Build - ECPv6.15.18//NONSGML v1.0//EN
CALSCALE:GREGORIAN
METHOD:PUBLISH
X-WR-CALNAME:Live Life Build
X-ORIGINAL-URL:https://courses.livelifebuild.com
X-WR-CALDESC:Events for Live Life Build
REFRESH-INTERVAL;VALUE=DURATION:PT1H
X-Robots-Tag:noindex
X-PUBLISHED-TTL:PT1H
BEGIN:VTIMEZONE
TZID:Australia/Sydney
BEGIN:STANDARD
TZOFFSETFROM:+1100
TZOFFSETTO:+1000
TZNAME:AEST
DTSTART:20240406T160000
END:STANDARD
BEGIN:DAYLIGHT
TZOFFSETFROM:+1000
TZOFFSETTO:+1100
TZNAME:AEDT
DTSTART:20241005T160000
END:DAYLIGHT
BEGIN:STANDARD
TZOFFSETFROM:+1100
TZOFFSETTO:+1000
TZNAME:AEST
DTSTART:20250405T160000
END:STANDARD
BEGIN:DAYLIGHT
TZOFFSETFROM:+1000
TZOFFSETTO:+1100
TZNAME:AEDT
DTSTART:20251004T160000
END:DAYLIGHT
BEGIN:STANDARD
TZOFFSETFROM:+1100
TZOFFSETTO:+1000
TZNAME:AEST
DTSTART:20260404T160000
END:STANDARD
BEGIN:DAYLIGHT
TZOFFSETFROM:+1000
TZOFFSETTO:+1100
TZNAME:AEDT
DTSTART:20261003T160000
END:DAYLIGHT
END:VTIMEZONE
BEGIN:VEVENT
DTSTART;TZID=Australia/Sydney:20250508T130000
DTEND;TZID=Australia/Sydney:20250508T140000
DTSTAMP:20260422T103022
CREATED:20241121T040357Z
LAST-MODIFIED:20241217T024114Z
UID:10000163-1746709200-1746712800@courses.livelifebuild.com
SUMMARY:ELEVATE LEADERSHIP Call with Helen Rogerson [Leadership EQ]
DESCRIPTION:
URL:https://courses.livelifebuild.com/event/elevate-leadership-call-with-helen-rogerson-leadership-eq-8-may/
END:VEVENT
BEGIN:VEVENT
DTSTART;TZID=Australia/Sydney:20250514T130000
DTEND;TZID=Australia/Sydney:20250514T140000
DTSTAMP:20260422T103022
CREATED:20241121T040517Z
LAST-MODIFIED:20250121T221541Z
UID:10000164-1747227600-1747231200@courses.livelifebuild.com
SUMMARY:MOMENTUM SESSION with Amelia + Duayne
DESCRIPTION:
URL:https://courses.livelifebuild.com/event/momentum-session-with-amelia-duayne-14-may/
END:VEVENT
BEGIN:VEVENT
DTSTART;TZID=Australia/Sydney:20250519T130000
DTEND;TZID=Australia/Sydney:20250519T140000
DTSTAMP:20260422T103022
CREATED:20241121T040651Z
LAST-MODIFIED:20241217T024053Z
UID:10000165-1747659600-1747663200@courses.livelifebuild.com
SUMMARY:ELEVATE MINDSET Call with Aaron Applefield [Stoic Coaching]
DESCRIPTION:
URL:https://courses.livelifebuild.com/event/elevate-mindset-call-with-aaron-applefield-stoic-coaching-19-may/
END:VEVENT
BEGIN:VEVENT
DTSTART;TZID=Australia/Sydney:20250528T130000
DTEND;TZID=Australia/Sydney:20250528T140000
DTSTAMP:20260422T103022
CREATED:20241121T040753Z
LAST-MODIFIED:20250505T023240Z
UID:10000166-1748437200-1748440800@courses.livelifebuild.com
SUMMARY:ELEVATE Call with Amelia
DESCRIPTION:
URL:https://courses.livelifebuild.com/event/elevate-call-with-amelia-28-may/
END:VEVENT
BEGIN:VEVENT
DTSTART;TZID=Australia/Sydney:20250529T120000
DTEND;TZID=Australia/Sydney:20250529T160000
DTSTAMP:20260422T103022
CREATED:20250421T035838Z
LAST-MODIFIED:20250421T035908Z
UID:10000200-1748520000-1748534400@courses.livelifebuild.com
SUMMARY:ELEVATE Fuel Session [Brisbane]
DESCRIPTION:
URL:https://courses.livelifebuild.com/event/elevate-fuel-session-brisbane/
LOCATION:BRISBANE\, Story Bridge Hotel\, 200 Main St\, Kangaroo Point\, Brisbane\, Queensland\, 4169\, Australia
END:VEVENT
END:VCALENDAR