BEGIN:VCALENDAR
VERSION:2.0
PRODID:-//Live Life Build - ECPv6.15.18//NONSGML v1.0//EN
CALSCALE:GREGORIAN
METHOD:PUBLISH
X-WR-CALNAME:Live Life Build
X-ORIGINAL-URL:https://courses.livelifebuild.com
X-WR-CALDESC:Events for Live Life Build
REFRESH-INTERVAL;VALUE=DURATION:PT1H
X-Robots-Tag:noindex
X-PUBLISHED-TTL:PT1H
BEGIN:VTIMEZONE
TZID:Australia/Sydney
BEGIN:STANDARD
TZOFFSETFROM:+1100
TZOFFSETTO:+1000
TZNAME:AEST
DTSTART:20240406T160000
END:STANDARD
BEGIN:DAYLIGHT
TZOFFSETFROM:+1000
TZOFFSETTO:+1100
TZNAME:AEDT
DTSTART:20241005T160000
END:DAYLIGHT
BEGIN:STANDARD
TZOFFSETFROM:+1100
TZOFFSETTO:+1000
TZNAME:AEST
DTSTART:20250405T160000
END:STANDARD
BEGIN:DAYLIGHT
TZOFFSETFROM:+1000
TZOFFSETTO:+1100
TZNAME:AEDT
DTSTART:20251004T160000
END:DAYLIGHT
BEGIN:STANDARD
TZOFFSETFROM:+1100
TZOFFSETTO:+1000
TZNAME:AEST
DTSTART:20260404T160000
END:STANDARD
BEGIN:DAYLIGHT
TZOFFSETFROM:+1000
TZOFFSETTO:+1100
TZNAME:AEDT
DTSTART:20261003T160000
END:DAYLIGHT
END:VTIMEZONE
BEGIN:VEVENT
DTSTART;TZID=Australia/Sydney:20250710T130000
DTEND;TZID=Australia/Sydney:20250710T140000
DTSTAMP:20260422T063216
CREATED:20241217T021121Z
LAST-MODIFIED:20250115T063650Z
UID:10000172-1752152400-1752156000@courses.livelifebuild.com
SUMMARY:INSIDE THE SITE FENCE [Member Spotlight] with Amelia + Duayne
DESCRIPTION:
URL:https://courses.livelifebuild.com/event/inside-the-site-fence-with-amelia-duayne-10-jul/
LOCATION:https://courses.livelifebuild.com/event/inside-the-site-fence-with-amelia-duayne-10-jul/
END:VEVENT
BEGIN:VEVENT
DTSTART;TZID=Australia/Sydney:20250716T130000
DTEND;TZID=Australia/Sydney:20250716T140000
DTSTAMP:20260422T063216
CREATED:20241217T021854Z
LAST-MODIFIED:20250121T215737Z
UID:10000173-1752670800-1752674400@courses.livelifebuild.com
SUMMARY:6P ELEVATOR REVIEW with Amelia + Duayne
DESCRIPTION:
URL:https://courses.livelifebuild.com/event/6p-elevator-review-with-amelia-duayne-16-jul/
END:VEVENT
BEGIN:VEVENT
DTSTART;TZID=Australia/Sydney:20250721T130000
DTEND;TZID=Australia/Sydney:20250721T140000
DTSTAMP:20260422T063216
CREATED:20241217T022152Z
LAST-MODIFIED:20241217T025705Z
UID:10000174-1753102800-1753106400@courses.livelifebuild.com
SUMMARY:ELEVATE BREATHWORK Call with Justin Andrews [Inner Breath]
DESCRIPTION:
URL:https://courses.livelifebuild.com/event/elevate-breathwork-call-with-justin-andrews-inner-breath-21-jul/
END:VEVENT
BEGIN:VEVENT
DTSTART;TZID=Australia/Sydney:20250730T130000
DTEND;TZID=Australia/Sydney:20250730T140000
DTSTAMP:20260422T063216
CREATED:20241217T022334Z
LAST-MODIFIED:20241217T025655Z
UID:10000175-1753880400-1753884000@courses.livelifebuild.com
SUMMARY:ELEVATE Call with Duayne
DESCRIPTION:
URL:https://courses.livelifebuild.com/event/elevate-call-with-duayne-30-jul/
END:VEVENT
END:VCALENDAR