BEGIN:VCALENDAR
VERSION:2.0
PRODID:-//Live Life Build - ECPv6.15.18//NONSGML v1.0//EN
CALSCALE:GREGORIAN
METHOD:PUBLISH
X-WR-CALNAME:Live Life Build
X-ORIGINAL-URL:https://courses.livelifebuild.com
X-WR-CALDESC:Events for Live Life Build
REFRESH-INTERVAL;VALUE=DURATION:PT1H
X-Robots-Tag:noindex
X-PUBLISHED-TTL:PT1H
BEGIN:VTIMEZONE
TZID:Australia/Sydney
BEGIN:STANDARD
TZOFFSETFROM:+1100
TZOFFSETTO:+1000
TZNAME:AEST
DTSTART:20240406T160000
END:STANDARD
BEGIN:DAYLIGHT
TZOFFSETFROM:+1000
TZOFFSETTO:+1100
TZNAME:AEDT
DTSTART:20241005T160000
END:DAYLIGHT
BEGIN:STANDARD
TZOFFSETFROM:+1100
TZOFFSETTO:+1000
TZNAME:AEST
DTSTART:20250405T160000
END:STANDARD
BEGIN:DAYLIGHT
TZOFFSETFROM:+1000
TZOFFSETTO:+1100
TZNAME:AEDT
DTSTART:20251004T160000
END:DAYLIGHT
BEGIN:STANDARD
TZOFFSETFROM:+1100
TZOFFSETTO:+1000
TZNAME:AEST
DTSTART:20260404T160000
END:STANDARD
BEGIN:DAYLIGHT
TZOFFSETFROM:+1000
TZOFFSETTO:+1100
TZNAME:AEDT
DTSTART:20261003T160000
END:DAYLIGHT
END:VTIMEZONE
BEGIN:VEVENT
DTSTART;TZID=Australia/Sydney:20250904T190000
DTEND;TZID=Australia/Sydney:20250904T190000
DTSTAMP:20260422T023605
CREATED:20241217T022930Z
LAST-MODIFIED:20250820T042124Z
UID:10000180-1757012400-1757012400@courses.livelifebuild.com
SUMMARY:ELEVATE SYSTEMS Call with John Tonkin [Brain In A Box]
DESCRIPTION:
URL:https://courses.livelifebuild.com/event/elevate-systems-call-with-john-tonkin-4-sep/
END:VEVENT
BEGIN:VEVENT
DTSTART;TZID=Australia/Sydney:20250910T130000
DTEND;TZID=Australia/Sydney:20250910T140000
DTSTAMP:20260422T023605
CREATED:20241217T023053Z
LAST-MODIFIED:20250122T041855Z
UID:10000181-1757509200-1757512800@courses.livelifebuild.com
SUMMARY:ELEVATE Call with Duayne
DESCRIPTION:
URL:https://courses.livelifebuild.com/event/elevate-call-with-duayne-10-sep/
END:VEVENT
BEGIN:VEVENT
DTSTART;TZID=Australia/Sydney:20250912T120000
DTEND;TZID=Australia/Sydney:20250912T160000
DTSTAMP:20260422T023605
CREATED:20250421T040551Z
LAST-MODIFIED:20250903T234924Z
UID:10000201-1757678400-1757692800@courses.livelifebuild.com
SUMMARY:ELEVATE Fuel Session [Melbourne]: BOOKINGS CLOSED
DESCRIPTION:
URL:https://courses.livelifebuild.com/event/elevate-fuel-session-melbourne/
LOCATION:MELBOURNE\, Melbourne\, Sydney\, Australia
END:VEVENT
BEGIN:VEVENT
DTSTART;TZID=Australia/Sydney:20250917T130000
DTEND;TZID=Australia/Sydney:20250917T140000
DTSTAMP:20260422T023605
CREATED:20241217T023205Z
LAST-MODIFIED:20250722T005257Z
UID:10000182-1758114000-1758117600@courses.livelifebuild.com
SUMMARY:MOMENTUM SESSION with Amelia + Duayne
DESCRIPTION:
URL:https://courses.livelifebuild.com/event/momentum-call-with-amelia-duayne-17-sep/
END:VEVENT
BEGIN:VEVENT
DTSTART;TZID=Australia/Sydney:20250925T130000
DTEND;TZID=Australia/Sydney:20250925T140000
DTSTAMP:20260422T023605
CREATED:20241217T023319Z
LAST-MODIFIED:20250721T033450Z
UID:10000183-1758805200-1758808800@courses.livelifebuild.com
SUMMARY:ELEVATE SELF CARE Call with TIACS
DESCRIPTION:
URL:https://courses.livelifebuild.com/event/elevate-self-care-call-with-tiacs-25-sep/
END:VEVENT
END:VCALENDAR