BEGIN:VCALENDAR
VERSION:2.0
PRODID:-//Live Life Build - ECPv6.15.18//NONSGML v1.0//EN
CALSCALE:GREGORIAN
METHOD:PUBLISH
X-WR-CALNAME:Live Life Build
X-ORIGINAL-URL:https://courses.livelifebuild.com
X-WR-CALDESC:Events for Live Life Build
REFRESH-INTERVAL;VALUE=DURATION:PT1H
X-Robots-Tag:noindex
X-PUBLISHED-TTL:PT1H
BEGIN:VTIMEZONE
TZID:America/Denver
BEGIN:DAYLIGHT
TZOFFSETFROM:-0700
TZOFFSETTO:-0600
TZNAME:MDT
DTSTART:20210314T090000
END:DAYLIGHT
BEGIN:STANDARD
TZOFFSETFROM:-0600
TZOFFSETTO:-0700
TZNAME:MST
DTSTART:20211107T080000
END:STANDARD
BEGIN:DAYLIGHT
TZOFFSETFROM:-0700
TZOFFSETTO:-0600
TZNAME:MDT
DTSTART:20220313T090000
END:DAYLIGHT
BEGIN:STANDARD
TZOFFSETFROM:-0600
TZOFFSETTO:-0700
TZNAME:MST
DTSTART:20221106T080000
END:STANDARD
BEGIN:DAYLIGHT
TZOFFSETFROM:-0700
TZOFFSETTO:-0600
TZNAME:MDT
DTSTART:20230312T090000
END:DAYLIGHT
BEGIN:STANDARD
TZOFFSETFROM:-0600
TZOFFSETTO:-0700
TZNAME:MST
DTSTART:20231105T080000
END:STANDARD
END:VTIMEZONE
BEGIN:VEVENT
DTSTART;TZID=America/Denver:20220824T130000
DTEND;TZID=America/Denver:20220824T140000
DTSTAMP:20260420T032928
CREATED:20220722T032712Z
LAST-MODIFIED:20220731T044837Z
UID:10000009-1661346000-1661349600@courses.livelifebuild.com
SUMMARY:August 24 | Q & A
DESCRIPTION:Wednesday\, August 24\, 1PM NSW TIME
URL:https://courses.livelifebuild.com/event/q-a-24-august-2022/
ATTACH;FMTTYPE=image/png:https://courses.livelifebuild.com/wp-content/uploads/2022/07/Aug24.png
END:VEVENT
END:VCALENDAR